BEGIN:VCALENDAR
VERSION:2.0
PRODID:-//Santa Maria Alla Fonte - ECPv6.15.20//NONSGML v1.0//EN
CALSCALE:GREGORIAN
METHOD:PUBLISH
X-WR-CALNAME:Santa Maria Alla Fonte
X-ORIGINAL-URL:https://santamaria-allafonte.it
X-WR-CALDESC:Eventi per Santa Maria Alla Fonte
REFRESH-INTERVAL;VALUE=DURATION:PT1H
X-Robots-Tag:noindex
X-PUBLISHED-TTL:PT1H
BEGIN:VTIMEZONE
TZID:UTC
BEGIN:STANDARD
TZOFFSETFROM:+0000
TZOFFSETTO:+0000
TZNAME:UTC
DTSTART:20230101T000000
END:STANDARD
END:VTIMEZONE
BEGIN:VEVENT
DTSTART;TZID=UTC:20240927T210000
DTEND;TZID=UTC:20250613T210000
DTSTAMP:20260424T105444
CREATED:20241007T073414Z
LAST-MODIFIED:20241007T073705Z
UID:515-1727470800-1749848400@santamaria-allafonte.it
SUMMARY:Percorso Francescano 2024 - 2025
DESCRIPTION:Percorso Francescano 2024 – 2025\n800 anni delle Stimmate di San Francesco\nCalendario\n\n27 Settembre ore 21:00 – Testimonianza di chi ha vissuto l’esperienza estiva nelle missioni: “Gioia di mettersi a disposizione e ritrovarsi arricchiti”. (Santi\, Silvia\, Nives)\n3 Ottobre dopo la celebrazione Eucaristica – Nei vespri\, ricordo del Transito da questo Mondo al Padre di San Francesco. I frati rinnovano i voti\n4 Ottobre ore 18:30 – Solennità di San Francesco – S. Messa solenne. Apertura del percorso francescano di questo nuovo anno\n9 Ottobre ore 21:00 – 1° Catechesi: “L’esperienza delle stimmate di San Francesco a partire dall’arte”. Dottoressa Rosa Giorgi\, direttrice del Museo dei Cappuccini\n10 Ottobre ore 17:30 – Riprende l’adorazione Eucaristica\n24-27 Ottobre – Pellegrinaggio ad Assisi (per chi ha fatto il percorso francescano lo scorso anno)\n8 Novembre ore 21:00 – Adorazione in Chiesa\n22 Novembre ore 21:00 – Condivisione fraterna\n13 Dicembre ore 19:45 – Cena condivisa\n17 Novembre dalle ore 9:30 – Ritiro di Avvento\n16 Dicembre dopo la S. Messa – Liturgia penitenziale\n10 Gennaio 2025 – Catechesi\n11 Gennaio 2025 ore 12:00 – Visita al Museo dei Cappuccini (max 20 persone)\n24 Gennaio – Adorazione\n7 Febbraio – Condivisione\n21 Febbraio – Cena condivisa\n28 Febbraio – Catechesi\n14 Marzo – Adorazione\n16 Marzo dalle ore 9:30 – Ritiro di quaresima\n28 Marzo – Condivisione\n11 Aprile – Venerdì di quaresima\, invece della cena\, “Fra Cecilio Cortinovis – Fondatore dell’Opera San Francesco”. Presentato dal Vicepostulatore della causa di beatificazione\n14 Aprile dopo la S. Messa – Liturgia penitenziale\n17 Aprile – Giovedì santo\n18 Aprile – Venerdì santo\n19 Aprile – Sabato santo\n20 Aprile – S. Pasqua\n21 Aprile – Lunedì dell’Angelo\n9 Maggio – Catechesi\n23 Maggio – Adorazione\n6 Giugno – Condivisione\n13 Giugno – Cena condivisa
URL:https://santamaria-allafonte.it/evento/percorso-francescano-2024-2025/
ATTACH;FMTTYPE=image/jpeg:https://santamaria-allafonte.it/wp-content/uploads/2021/01/chiesa-santa-maria-alla-fonte-milano-377.jpg
END:VEVENT
BEGIN:VEVENT
DTSTART;TZID=UTC:20241019T103000
DTEND;TZID=UTC:20241214T223000
DTSTAMP:20260424T105444
CREATED:20241007T071218Z
LAST-MODIFIED:20241007T071954Z
UID:506-1729333800-1734215400@santamaria-allafonte.it
SUMMARY:I nostri angeli
DESCRIPTION:“I nostri angeli”\nsono coloro che tornati alla casa del Padre vivono per sempre nei nostri cuori.\nGruppo libero\, aperto alle persone afflitte da un grave lutto (figlio o persona cara).\n  \nCi troviamo per pregare\, riflettere\, condividere\, il difficile cammino di trasformazione del dolore in speranza e ritrovare il gusto di vivere. \nProssimi incontri:      \n\nSabato 19 ottobre 2024\nSabato 16 novembre 2024\nSabato 14 dicembre 2024\n\n\nProgramma:\n\nS. Messa ore 10:30\nIncontro\nPranzo (confermare la presenza tramite Whatsapp)\n\n  \nRiferimento: Fra Mauro Miselli\nCel: 335.6810133\nEmail: misellimauro1@gmail.com
URL:https://santamaria-allafonte.it/evento/i-nostri-angeli/
ATTACH;FMTTYPE=image/jpeg:https://santamaria-allafonte.it/wp-content/uploads/2021/01/chiesa-santa-maria-alla-fonte-milano-350.jpg
END:VEVENT
BEGIN:VEVENT
DTSTART;TZID=UTC:20241130T100000
DTEND;TZID=UTC:20241215T193000
DTSTAMP:20260424T105444
CREATED:20241007T074250Z
LAST-MODIFIED:20241007T075116Z
UID:519-1732960800-1734291000@santamaria-allafonte.it
SUMMARY:Curiosando... Natale - Mercatino di Natale
DESCRIPTION:Curiosando… Natale – Mercatino di Natale\nDAL 30 NOVEMBRE AL 15 DICEMBRE\n  \nNel salone adiacente al parco… Presepi artigianali\, idee regalo\, marmellate\, miele\, e curiosità… il tuo regalo ha un valore aggiunto perchè sostiene la ‘Chiesina’ che è nel cuore di tutti.  Raccogliamo ciò che vorrete donare al mercatino da martedì 26 Novembre \nOrari:\n\nLunedì – Chiuso\nMartedì\, Mercoledì\, Giovedì\, Venerdì – 16:00-18:00\nSabato – 10:00-12:30 15:30-19:30\nDomenica 10:00-13:00 15:30-19:30\n\nEventi\n\nDomenica 8 Dicembre ore 15:00 – Visita guidata alla Chiesa\nSabato 14 e Domenica 15 Dicembre – Stelle di Natale – davanti alla Chiesa\n\n  \nRiferimento: Fra Mauro Miselli\nCel: 335.6810133\nEmail: misellimauro1@gmail.com
URL:https://santamaria-allafonte.it/evento/curiosando-natale-mercatino-di-natale/
ATTACH;FMTTYPE=image/jpeg:https://santamaria-allafonte.it/wp-content/uploads/2021/01/chiesa-santa-maria-alla-fonte-milano-365.jpg
END:VEVENT
BEGIN:VEVENT
DTSTART;TZID=UTC:20241208T150000
DTEND;TZID=UTC:20241208T160000
DTSTAMP:20260424T105444
CREATED:20241007T075939Z
LAST-MODIFIED:20241007T080844Z
UID:533-1733670000-1733673600@santamaria-allafonte.it
SUMMARY:Visita guidata alla Chiesa Santa Maria alla fonte
DESCRIPTION:Prof. Enrica Garlati\nRitrovo davanti al cancello del parco
URL:https://santamaria-allafonte.it/evento/visita-guidata-alla-chiesa-santa-maria-alla-fonte-2/
ATTACH;FMTTYPE=image/jpeg:https://santamaria-allafonte.it/wp-content/uploads/2021/01/chiesa-santa-maria-alla-fonte-milano-392.jpg
END:VEVENT
BEGIN:VEVENT
DTSTART;TZID=UTC:20241217T210000
DTEND;TZID=UTC:20241217T220000
DTSTAMP:20260424T105444
CREATED:20241210T150258Z
LAST-MODIFIED:20241210T150258Z
UID:538-1734469200-1734472800@santamaria-allafonte.it
SUMMARY:Concerto di canti polifonici di Natale
DESCRIPTION:Concerto di canti polifonici di Natale – Con il gruppo vocale VoxMea\nMartedì 17 dicembre\, ore 21. Ingresso libero.\nChiesa Santa Maria alla Fonte\, Via della Chiesa Rossa\, 55\nUn concerto di canti di Natale con il gruppo vocale VoxMea nella mistica scenografia della ‘chiesetta rossa’\, Santa Maria alla Fonte\, il luogo di culto cristiano più antico di Milano\, dove ogni pietra conserva memoria di secoli di spiritualità e preghiera di ispirazione mariana. Lo straordinario evento si terrà martedì 17 dicembre alle ore 21 e l’ingresso è libero (via della Chiesa Rossa\, 55\, Metro linea 2- Gratosoglio). Repertorio: O Magnum Mysteryum (Andrea Buonavitacola)\, Ave Maris Stella (Edvard Grieg)\, Carol Of The Bells (Mykola Leonatovych)\, Memorare (Walter Muto)\, Jesu Parvule (Alfred Burt)\, Sant Josep I La Mare De Deu (Pere Jorda)\, O Jesulein Suss (J.S. Bach)\, Rocking (David Willcocks)\, Hymne A La Vierge (Pierre Villette)\, Nigh Bethlehem (Alfred Burt)\, Verbum Caro Factum Est (Anonimo\, Cancioniero De Uppsala)\, Nunc Dimittis (Paul Smith). \nVoxMea è un gruppo vocale nato nel settembre 2023 dalla volontà dei componenti di esplorare la bellezza del repertorio polifonico per coro misto\, dalla musica antica fino alle composizioni più moderne. VoxMea si ispira\, come ricorda il nome\, alla potenza comunicativa ed espressiva della voce umana ed al cuore che la alimenta\, ben sapendo che è nell’armonia di più voci che la singola melodia viene valorizzata. I coristi sono 11\, dai 20 ai 50 anni\, alcuni musicisti\, altri cantori per passione ma con tanta esperienza. Le voci: 3 soprano (Valentina Oriani\, Alice Tamburini\, Giorgia Binacchi; 2 contralto (Cara Ronza e Antonella Rattini); 2 tenori (Giovanni De Luca e Alberto Della Croce); 2 baritoni (Simone Abbiati e Filippo Colombo); 2 bassi (Luca Altieri e Mauro Berzovini). \nEventuali offerte libere saranno devolute alle opere di conservazione della chiesetta\, già recuperata dall’oblio e dall’abbandono dal Comitato Volontari Cascina Chiesa Rossa oggi supportati e affiancati dalla comunità dei Frati Minori Cappuccini con la supervisione di Fra Mauro Miselli. I Frati hanno ricevuto l’incarico della rettoria nel 2009 \nRiferimento: Fra Mauro Miselli\nCel: 335.6810133\nEmail: misellimauro1@gmail.com
URL:https://santamaria-allafonte.it/evento/concerto-di-canti-polifonici-di-natale/
ATTACH;FMTTYPE=image/jpeg:https://santamaria-allafonte.it/wp-content/uploads/2021/01/chiesa-santa-maria-alla-fonte-milano-332.jpg
END:VEVENT
BEGIN:VEVENT
DTSTART;TZID=UTC:20241221T193000
DTEND;TZID=UTC:20241221T213000
DTSTAMP:20260424T105444
CREATED:20241210T150954Z
LAST-MODIFIED:20241210T150954Z
UID:540-1734809400-1734816600@santamaria-allafonte.it
SUMMARY:Cantori di Rinascita - Note e canti di Natale dal mondo
DESCRIPTION:Note e canti di Natale dal mondo – Canti della tradizione natalizia\nSabato 21 Dicembre ore 19:30\nI Cantori di Rinascita\, sotto la direzione del Maestro Francesco Pio Paolillo\, si esibiranno sabato 21 Dicembre alle 19:30 dopo la Santa Messa delle ore 18:30.\nIl coro\, che ha preso il nome dalla Scuola media sperimentale a indirizzo musicale “Rinascita – A. Livi”  del Giambellino dove è stato fondato nel 1994\, ci delizierà con una selezione di brani classici\, popolari e multietnici dalle più svariate parti del mondo.\nRiferimento: Fra Mauro Miselli\nCel: 335.6810133\nEmail: misellimauro1@gmail.com
URL:https://santamaria-allafonte.it/evento/cantori-di-rinascita-note-e-canti-di-natale-dal-mondo/
ATTACH;FMTTYPE=image/jpeg:https://santamaria-allafonte.it/wp-content/uploads/2024/12/cantori.jpg
END:VEVENT
END:VCALENDAR